BEGIN:VCALENDAR
VERSION:2.0
PRODID:spatie/icalendar-generator
NAME:HAD5319H Class Schedule
X-WR-CALNAME:HAD5319H Class Schedule
REFRESH-INTERVAL;VALUE=DURATION:PT720M
X-PUBLISHED-TTL:PT720M
METHOD:PUBLISH
BEGIN:VTIMEZONE
TZID:America/Toronto
BEGIN:DAYLIGHT
DTSTART:20260308T020000
TZOFFSETFROM:-0500
TZOFFSETTO:-0400
END:DAYLIGHT
BEGIN:STANDARD
DTSTART:20261101T020000
TZOFFSETFROM:-0400
TZOFFSETTO:-0500
END:STANDARD
BEGIN:DAYLIGHT
DTSTART:20270314T020000
TZOFFSETFROM:-0500
TZOFFSETTO:-0400
END:DAYLIGHT
END:VTIMEZONE
BEGIN:VTIMEZONE
TZID:UTC
BEGIN:STANDARD
DTSTART:20250510T203749
TZOFFSETFROM:+0000
TZOFFSETTO:+0000
END:STANDARD
END:VTIMEZONE
BEGIN:VEVENT
UID:class45214.schedule1@ihpme.utoronto.ca
DTSTAMP:20260204T203749Z
SUMMARY:HAD5319H
DESCRIPTION:Course: Biostatistics III: Advanced Biostatistical Techniques f
 or Observational Studies\nDelivery Format: Weekly\nSchedule: Tuesdays from
  9:10am-11am (Sep 8-Dec 10)
RRULE:FREQ=WEEKLY;UNTIL=20261211T000000;INTERVAL=1;BYDAY=TU
DTSTART;TZID=America/Toronto:20260908T091000
DTEND;TZID=America/Toronto:20260908T110000
LAST-MODIFIED;TZID=America/Toronto:20260409T154940
END:VEVENT
BEGIN:VEVENT
UID:class45214.schedule2@ihpme.utoronto.ca
DTSTAMP:20260204T203749Z
SUMMARY:HAD5319H - Tutorial
DESCRIPTION:Course: Biostatistics III: Advanced Biostatistical Techniques f
 or Observational Studies\nDelivery Format: Weekly\nSchedule: Thursdays fro
 m 9:10am-11am (Sep 8-Dec 10)
RRULE:FREQ=WEEKLY;UNTIL=20261211T000000;INTERVAL=1;BYDAY=TH
DTSTART;TZID=America/Toronto:20260910T091000
DTEND;TZID=America/Toronto:20260910T110000
RELATED-TO:class45214.schedule1@ihpme.utoronto.ca
LAST-MODIFIED;TZID=America/Toronto:20260409T154940
END:VEVENT
END:VCALENDAR